BEGIN:VCALENDAR
VERSION:2.0
PRODID:-//EEN Cyprus - ECPv6.15.20//NONSGML v1.0//EN
CALSCALE:GREGORIAN
METHOD:PUBLISH
X-ORIGINAL-URL:https://eencyprus.org.cy/en/
X-WR-CALDESC:Events for EEN Cyprus
REFRESH-INTERVAL;VALUE=DURATION:PT1H
X-Robots-Tag:noindex
X-PUBLISHED-TTL:PT1H
BEGIN:VTIMEZONE
TZID:Asia/Nicosia
BEGIN:DAYLIGHT
TZOFFSETFROM:+0200
TZOFFSETTO:+0300
TZNAME:EEST
DTSTART:20250330T010000
END:DAYLIGHT
BEGIN:STANDARD
TZOFFSETFROM:+0300
TZOFFSETTO:+0200
TZNAME:EET
DTSTART:20251026T010000
END:STANDARD
BEGIN:DAYLIGHT
TZOFFSETFROM:+0200
TZOFFSETTO:+0300
TZNAME:EEST
DTSTART:20260329T010000
END:DAYLIGHT
BEGIN:STANDARD
TZOFFSETFROM:+0300
TZOFFSETTO:+0200
TZNAME:EET
DTSTART:20261025T010000
END:STANDARD
BEGIN:DAYLIGHT
TZOFFSETFROM:+0200
TZOFFSETTO:+0300
TZNAME:EEST
DTSTART:20270328T010000
END:DAYLIGHT
BEGIN:STANDARD
TZOFFSETFROM:+0300
TZOFFSETTO:+0200
TZNAME:EET
DTSTART:20271031T010000
END:STANDARD
END:VTIMEZONE
BEGIN:VEVENT
DTSTART;TZID=Asia/Nicosia:20260212T100000
DTEND;TZID=Asia/Nicosia:20260212T113000
DTSTAMP:20260420T220202
CREATED:20260206T092930Z
LAST-MODIFIED:20260206T093217Z
UID:13112-1770890400-1770895800@eencyprus.org.cy
SUMMARY:Do You Want to Expand in China? Free Online Information Session on Cross-Border E- Commerce via JD Worldwide
DESCRIPTION:The Enterprise Europe Network informs local SMEs about a free online information session focusing on selling through the JD Worldwide platform\, one of the leading cross-border e-commerce platforms in China. \nThe initiative aligns with the objectives of the Enterprise Europe Network\, which supports local SMEs in identifying partnerships and expanding into international markets. \nCross-border e-commerce (CBEC) enables European SMEs to enter the Chinese market more quickly and at lower cost\, while also allowing the sale of products that are not permitted under general trade (e.g. certain food and beverage categories). At the same time\, products imported through CBEC benefit from preferential customs duty rates. \nThe event forms part of the E-Commerce Event Series of the EU SME Centre\, organised in cooperation with the China-Italy Chamber of Commerce\, and includes practical guidance on how to create and manage an e-store on the JD Worldwide platform. \nEvent information \n\nDate: Thursday\, 12 February\nTime: 10:00–11:15\nFormat: Online (Zoom)\n\nAgenda \n\n10:00 – 10:05 | Opening remarks\n10:05 – 10:50 | Selling on JD Worldwide\n\nSpeaker: Zarina Kanji\, Marketing Director UK & Europe\, WPIC Marketing + Technologies\n\n\n\n\n10:50 – 11:10 | Q&A session\n11:10 – 11:15 | Concluding remarks\n\nRegistration & eligibility \nThe event is open and free of charge to: \n\nEuropean SMEs\nBusiness support organisations\nTrade promotion organisations\nEU SME Centre stakeholders\n\nLocal SMEs interested in expanding into the Chinese market through cross-border e- commerce are strongly encouraged to register. \nTo register\, click HERE. \nFor any additional information or questions\, please do not hesitate to contact us at 22889749/69/66 or via email at eency@ccci.org.cy \n  \nSoti Christou Officer CCCI | Department of Services\, Trade and Digitalization Coordinator of Enterprise Europe Network Cyprus
URL:https://eencyprus.org.cy/en/event/do-you-want-to-expand-in-china-free-online-information-session-on-cross-border-e-commerce-via-jd-worldwide/
ATTACH;FMTTYPE=image/png:https://eencyprus.org.cy/wp-content/uploads/2026/02/een-Do-You-Want-to-Expand-in-China-Free-Online-Information-Session-on-Cross-Border-E-Commerce-via-JD-Worldwide.png
END:VEVENT
END:VCALENDAR