BEGIN:VCALENDAR
VERSION:2.0
PRODID:-//EEN Cyprus - ECPv6.15.20//NONSGML v1.0//EN
CALSCALE:GREGORIAN
METHOD:PUBLISH
X-ORIGINAL-URL:https://eencyprus.org.cy/en/
X-WR-CALDESC:Events for EEN Cyprus
REFRESH-INTERVAL;VALUE=DURATION:PT1H
X-Robots-Tag:noindex
X-PUBLISHED-TTL:PT1H
BEGIN:VTIMEZONE
TZID:Asia/Nicosia
BEGIN:DAYLIGHT
TZOFFSETFROM:+0200
TZOFFSETTO:+0300
TZNAME:EEST
DTSTART:20250330T010000
END:DAYLIGHT
BEGIN:STANDARD
TZOFFSETFROM:+0300
TZOFFSETTO:+0200
TZNAME:EET
DTSTART:20251026T010000
END:STANDARD
BEGIN:DAYLIGHT
TZOFFSETFROM:+0200
TZOFFSETTO:+0300
TZNAME:EEST
DTSTART:20260329T010000
END:DAYLIGHT
BEGIN:STANDARD
TZOFFSETFROM:+0300
TZOFFSETTO:+0200
TZNAME:EET
DTSTART:20261025T010000
END:STANDARD
BEGIN:DAYLIGHT
TZOFFSETFROM:+0200
TZOFFSETTO:+0300
TZNAME:EEST
DTSTART:20270328T010000
END:DAYLIGHT
BEGIN:STANDARD
TZOFFSETFROM:+0300
TZOFFSETTO:+0200
TZNAME:EET
DTSTART:20271031T010000
END:STANDARD
END:VTIMEZONE
BEGIN:VEVENT
DTSTART;TZID=Asia/Nicosia:20260218T140000
DTEND;TZID=Asia/Nicosia:20260218T180000
DTSTAMP:20260420T220207
CREATED:20260210T103548Z
LAST-MODIFIED:20260210T103548Z
UID:13120-1771423200-1771437600@eencyprus.org.cy
SUMMARY:European Innovation Council Info Day in Nicosia Cyprus\, 18 February 2026
DESCRIPTION:The European Innovation Council (EIC) and the Research and Innovation Foundation (RIF) are organising an EIC Info Day taking place in Nicosia\, on 18 February 2026. \nThe event will present the current EIC Work Programme\, providing detailed information on the individual calls and highlighting funding opportunities available to potential applicants. \nParticipants will first receive an overview of the key features and new elements of the EIC Work Programme during a plenary session\, followed by two parallel sessions: one session will focus on the Pathfinder and Transition Calls\, targeting researchers from academic and research organisations\, as well as companies. The other session will focus on the Accelerator and STEP Scale-up Calls\, including a presentation of the Pre-Accelerator instrument\, tailored to deep tech SMEs with mature technologies. \nParticipants are required to select their preferred session upon registration. \nDuring the Info Day\, participants will hear directly from the EIC representatives\, learn from success stories shared by EIC-funded project beneficiaries\, gain insights into the EIC Fund\, take part in an interactive Q&A session\, have the opportunity to network and exchange ideas with peers from both academia and industry. \nThe event will be held in English\, and participation is free of charge. Attendance is open to academic and industry stakeholders. \nFor the detailed Programme\, venue details and registrations please visit the EIC registration website. \nSource: https://www.research.org.cy/en/european-innovation-council-info-day-in-nicosia-cyprus-18-february-2026/
URL:https://eencyprus.org.cy/en/event/european-innovation-council-info-day-in-nicosia-cyprus-18-february-2026/
ATTACH;FMTTYPE=image/png:https://eencyprus.org.cy/wp-content/uploads/2026/02/EIC_Cyprus-2026.png
END:VEVENT
END:VCALENDAR