BEGIN:VCALENDAR
VERSION:2.0
PRODID:-//EEN Cyprus - ECPv6.15.20//NONSGML v1.0//EN
CALSCALE:GREGORIAN
METHOD:PUBLISH
X-WR-CALNAME:EEN Cyprus
X-ORIGINAL-URL:https://eencyprus.org.cy/en/
X-WR-CALDESC:Events for EEN Cyprus
REFRESH-INTERVAL;VALUE=DURATION:PT1H
X-Robots-Tag:noindex
X-PUBLISHED-TTL:PT1H
BEGIN:VTIMEZONE
TZID:Asia/Nicosia
BEGIN:DAYLIGHT
TZOFFSETFROM:+0200
TZOFFSETTO:+0300
TZNAME:EEST
DTSTART:20250330T010000
END:DAYLIGHT
BEGIN:STANDARD
TZOFFSETFROM:+0300
TZOFFSETTO:+0200
TZNAME:EET
DTSTART:20251026T010000
END:STANDARD
BEGIN:DAYLIGHT
TZOFFSETFROM:+0200
TZOFFSETTO:+0300
TZNAME:EEST
DTSTART:20260329T010000
END:DAYLIGHT
BEGIN:STANDARD
TZOFFSETFROM:+0300
TZOFFSETTO:+0200
TZNAME:EET
DTSTART:20261025T010000
END:STANDARD
BEGIN:DAYLIGHT
TZOFFSETFROM:+0200
TZOFFSETTO:+0300
TZNAME:EEST
DTSTART:20270328T010000
END:DAYLIGHT
BEGIN:STANDARD
TZOFFSETFROM:+0300
TZOFFSETTO:+0200
TZNAME:EET
DTSTART:20271031T010000
END:STANDARD
END:VTIMEZONE
BEGIN:VEVENT
DTSTART;TZID=Asia/Nicosia:20260226T093000
DTEND;TZID=Asia/Nicosia:20260226T113000
DTSTAMP:20260421T014141
CREATED:20260218T113008Z
LAST-MODIFIED:20260225T102014Z
UID:13140-1772098200-1772105400@eencyprus.org.cy
SUMMARY:Webinar on Risk Mitigation: Commercial Background Checks and Due Diligence in China
DESCRIPTION:The Enterprise Europe Network Cyprus invites you to participate in a specialized workshop titled “Risk Mitigation: Commercial Background Checks and Due Diligence in China\,” organized by the EU SME Centre in partnership with the European Union Chamber of Commerce in China. \nThis webinar follows the release of Simple Steps to Minimize Risks of Scams and aims to equip European SMEs with practical tools and knowledge to minimize risks when purchasing\, selling\, or exploring partnerships in the Chinese market. \n\nDate: 26 February 2026\nTime: 10:00–11:30 (Cyprus Time/GMT+2)\nLocation: Online\nOpen to: All European SMEs\nLanguage: English\n\nParticipation in the webinar is free of charge. Interested businesses are invited to register HERE \nWhy Attend? \nEntering or expanding in China offers significant opportunities\, but it also requires careful evaluation of potential partners\, suppliers\, and distributors. This workshop will provide: \n\nPractical guidance on conducting commercial background checks\nKey steps for effective due diligence tailored to SMEs\nInsights on identifying reliable partners and avoiding common risks\nAccess to expert advice during a live Q&A session\nAn overview of available support tools for European SMEs operating in China\n\nAgenda \nThursday\, 26 February 2026 (Cyprus Time/GMT+2) \n\n9:30–10:00 – Registration and networking (for onsite participants in Beijing)\n10:00–10:05 – Opening remarks\n10:05–10:35 – Keynote Presentation 1:\n\nCommercial Background Checks in China\n\nMoey Li\, Representative\, Dewit Law Office Beijing\n\n\n\n\n10:35–11:05 – Keynote Presentation 2:\n\nDue Diligence in China for SMEs\n\nIcey Xu\, Head of Operations\, PSU China\n\n\n\n\n11:05–11:30 – Q&A Session\n\nFor any further questions or inquiries please contact us via telephone 22889749/66/69 or via email at: eency@ccci.org.cy. \n  \nChristina Panayides CCCI Officer | Department of European Affairs & Programmes Enterprise Europe Network Cyprus | Cyprus Chamber of Commerce & Industry \n 
URL:https://eencyprus.org.cy/en/event/webinar-on-risk-mitigation-commercial-background-checks-and-due-diligence-in-china/
ATTACH;FMTTYPE=image/png:https://eencyprus.org.cy/wp-content/uploads/2026/02/een-Webinar-on-Risk-Mitigation-Commercial-Background-Checks-and-Due-Diligence-in-China.png
END:VEVENT
BEGIN:VEVENT
DTSTART;VALUE=DATE:20260228
DTEND;VALUE=DATE:20260302
DTSTAMP:20260421T014141
CREATED:20260115T065018Z
LAST-MODIFIED:20260115T065222Z
UID:13013-1772236800-1772409599@eencyprus.org.cy
SUMMARY:ARTOZYMA 2026 – Matchmaking Event
DESCRIPTION:The Enterprise Europe Network would like to inform you about ARTOZYMA B2B 2026\, a matchmaking event co-organised by the Federation of Industries of Greece (SVE)\, member of EEN Hellas and TIF HELEXPO\, taking place in the framework of ARTOZYMA Expo in Thessaloniki\, Greece. \nThis action is part of the Enterprise Europe Network’s initiatives to strengthen international business cooperation and connect Greek companies with buyers from abroad. \nB2B Meetings Schedule & Venue \nThe B2B meetings will be held at Pavilions 13 & 15\, TIF-HELEXPO Fairgrounds\, as follows: \n\nSaturday\, 28 February 2026: 11:20–14:30 & 15:00–18:00\nSunday\, 1 March 2026: 11:20–13:30\n\nWho can participate? \nBuyer companies active in the following sectors are invited to participate: \n\nRaw materials & ingredients for bakery\, pastry and ice cream\nBakery\, pastry and food processing machinery & equipment\nChocolate and confectionery products\nDough products & baked goods\nPackaging and decoration solutions\nStore equipment and production tools\n\nThe objective of ARTOZYMA B2B is to facilitate targeted B2B meetings between international buyers and Greek suppliers/manufacturers\, fostering new commercial partnerships in the bakery\, pastry\, chocolate and ice-cream sectors. \nHosted Buyer Programme \nSelected buyer companies may participate through the Hosted Buyer Programme\, which covers air travel and hotel accommodation\, in line with the programme’s terms and conditions. \nPlease note: \n\nHosted buyers must schedule a minimum of six (6) B2B meetings\nParticipation is subject to evaluation and final approval by TIF HELEXPO A.\n\nFor more information and/or registration until 23/02/2026\, click HERE. \nFor any additional information or questions\, please do not hesitate to contact us at 22889749 / 69 / 66 or via email at eency@ccci.org.cy \nSoti Christou Officer CCCI | Department of Services\, Trade and Digitalization Coordinator of Enterprise Europe Network Cyprus
URL:https://eencyprus.org.cy/en/event/artozyma-2026-matchmaking-event/
ATTACH;FMTTYPE=image/png:https://eencyprus.org.cy/wp-content/uploads/2026/01/een-ARTOZYMA-2026-–-Matchmaking-Event.png
END:VEVENT
BEGIN:VEVENT
DTSTART;VALUE=DATE:20260302
DTEND;VALUE=DATE:20260306
DTSTAMP:20260421T014141
CREATED:20260128T070709Z
LAST-MODIFIED:20260128T071007Z
UID:13068-1772409600-1772755199@eencyprus.org.cy
SUMMARY:International Business Opportunities for Cypriot SMEs at MWC OPEN INNOVATION CHALLENGE 2026
DESCRIPTION:The Enterprise Europe Network Cyprus invites Cypriot SMEs and startups to participate in the MWC Open Innovation Challenge 2026\, an international business matchmaking (B2B) event organized by ACCIÓ\, a department of the Catalan Government’s Ministry of Enterprise and Labour\, in collaboration with the Enterprise Europe Network\, the world’s largest business support network. \nThe MWC Open Innovation Challenge 2026 brings together corporates\, investors\, startups and technology providers to co-create innovative solutions addressing real-world technological challenges/needs\, within the framework of MWC / 4YFN Barcelona. \nParticipants may choose to attend physically\, online\, or both\, according to their availability. \nPhysical \n\nB2B meetings: Date: 2–5 March 2026\nLocation: 4YFN Congress\, Barcelona (ACCIÓ Stand\, Hall 8)\nPhysical meetings will take place exclusively between corporates (challenge owners) and technology/solution providers.\n\nOnline  \n\nB2B meetings: Date: 9–13 March 2026\nLocation: Held via the b2match platform\nThe link for registering for both available options is provided below.\n\nWhy participate? \n\nA unique opportunity to connect with large companies\, SMEs and public entities seeking innovative technologies and solutions.\nA personalized B2B meeting agenda based on participants’ interests and\nFree of charge participation\, with the option to participate 100%\nFocused 30-minute meetings designed to quickly assess collaboration potential based on concrete technological challenges.\n\nInterested businesses are invited to register on the HERE as technology or solution providers and complete their company profile. \nRegistration instructions: \n\nOnly one participant per company may register on the platform (additional company representatives may attend meetings).\nCreate a clear and concise company profile\, including a short pitch\, biography and technological skills.\nSelect your availability for physical meetings\, online meetings\, or both.\nOnce the profile is validated\, participants may start requesting meetings with corporates whose challenges/needs align with their technological capabilities.\nFinal meeting acceptance and scheduling are decided by the challenge-owning corporates who have published their challenges/needs.\n\nConfirmed meetings and the full agenda will be available under “My Schedule” on the platform. \nFor any additional information or questions\, please do not hesitate to contact us at 22889766/69/49 or via email at eency@ccci.org.cy \n  \nChristina Panayides CCCI Officer | Department of European Affairs & Programmes Enterprise Europe Network Cyprus | Cyprus Chamber of Commerce & Industry
URL:https://eencyprus.org.cy/en/event/international-business-opportunities-for-cypriot-smes-at-mwc-open-innovation-challenge-2026/
ATTACH;FMTTYPE=image/png:https://eencyprus.org.cy/wp-content/uploads/2026/01/een-mwc-2026.png
END:VEVENT
BEGIN:VEVENT
DTSTART;VALUE=DATE:20260303
DTEND;VALUE=DATE:20260306
DTSTAMP:20260421T014141
CREATED:20251216T084230Z
LAST-MODIFIED:20251216T084420Z
UID:12968-1772496000-1772755199@eencyprus.org.cy
SUMMARY:Futurebuild 2026 - Construction Sector Exhibition (3–5 March 2026)
DESCRIPTION:We would like to inform you that Innovate UK\, in collaboration with the Enterprise Europe Network\, is organizing business-to-business (B2B) meetings within the framework of the Futurebuild 2026 event\, which will take place in London from 3 to 5 March 2026. \nThis initiative offers participants the opportunity to meet industry experts from the United Kingdom and other countries in order to identify potential partners for cooperation. \nEvent Details \n\n3 March 2026: In-person meetings in London\n4 –5 March 2026: Online meetings via the B2Match platform\nVenue: 1 Western Gateway\, Halls S2-S4\, Excel London\, E16 1XL\, United Kingdom\n\nWho Can Participate? \nThe B2B meetings are open to companies and professionals active in the construction sector and related fields\, including: \n\nSustainable construction materials\nDevelopment of advanced manufacturing processes\nGreen innovation\nCircular economy\nRenewable energy sources\nSmart energy solutions\nResource efficiency & circularity\nUrban development and resilient infrastructure\n\nHow It Works  \nInterested participants must register through the platform HERE and create their business profile. \nParticipation in the B2B meetings is free of charge. \nParticipants can then browse the published list of attendees\, identify potential partners\, and send meeting requests. \nFor any additional information or questions\, please do not hesitate to contact us at 22889749 / 69 / 66 or via email at eency@ccci.org.cy \n  \nSoti Christou Officer CCCI | Department of Services\, Trade and Digitalization Coordinator of Enterprise Europe Network Cyprus Tel. 22889769\, s.christou@ccci.org.cy
URL:https://eencyprus.org.cy/en/event/futurebuild-2026-construction-sector-exhibition-3-5-march-2026/
ATTACH;FMTTYPE=image/png:https://eencyprus.org.cy/wp-content/uploads/2025/12/een-Futurebuild-2026-1.png
END:VEVENT
BEGIN:VEVENT
DTSTART;VALUE=DATE:20260320
DTEND;VALUE=DATE:20260324
DTSTAMP:20260421T014141
CREATED:20260121T100045Z
LAST-MODIFIED:20260121T100924Z
UID:13040-1773964800-1774310399@eencyprus.org.cy
SUMMARY:SiciliaWine 2026: Explore Business Opportunities in the Agri-Food Sector!
DESCRIPTION:We would like to inform you that Sicindustria\, in cooperation with Enterprise Europe Network\, Agrifood Sector Group\, and sponsored by Unioncamere Sicilia (Union of the Chambers of Sicily) are organizing SiciliaWine 2026. \nThis match-making event brings together Sicilian producers and international buyers of wine\, olive oil and grains/flour. \nThis is a unique opportunity to generate new business contacts in a time and cost-efficient way! Meetings will take place in a dedicated area and will be arranged in advance HERE. \nEvent Details \n\nLocation: Chiusa Sclafani\nDate: 20-23/03/2026\nRegistration Deadline: 09/03/2026\n\nWho can participate? \n\nInternational Buyers: Importers\, purchase managers from large scale distribution\, distributors\, agents\, supermarkets\, Ho.Re.Ca. representatives\, delicatessen/specialty food retailers\, organic and natural food stores\, commercial catering/food service\, corporate event catering companies\, fast food chain\, coffee shops and bars chains\, online food retailing services\, wholesalers and others.\nSicilian Producers\n\nHosted Buyers Program \nSelected buyers can benefit from a 100% free travel and accommodation which includes the following costs: \n\nReturn tickets to/from Sicily\nAccommodation (3 nights in a 4* hotel)\nTransfer from/to airport\nWorking lunch during the B2B meetings\nSupport in the organisation of the company visits\nFull assistance from the organisation before\, during and after the event\n\n  \nApplications will be evaluated individually and approved by Sicindustria and the Union of the Chambers of Sicily following these criteria: registration date; turnover; year of establishment\, products of interest\, turnover; capacity of purchase. \n**Participating buyers must have capacity of decision in their companies. For more information and/or registration\, click HERE. \nFor any additional information or questions\, please do not hesitate to contact us at 22889749 / 69 / 66 or via email at eency@ccci.org.cy \n  \nSoti Christou Officer CCCI | Department of Services\, Trade and Digitalization Coordinator of Enterprise Europe Network Cyprus
URL:https://eencyprus.org.cy/en/event/siciliawine-2026-explore-business-opportunities-in-the-agri-food-sector/
ATTACH;FMTTYPE=image/png:https://eencyprus.org.cy/wp-content/uploads/2026/01/een-SiciliaWine-2026-Explore-Business-Opportunities-in-the-Agri-Food-Sector.png
END:VEVENT
BEGIN:VEVENT
DTSTART;VALUE=DATE:20260324
DTEND;VALUE=DATE:20260329
DTSTAMP:20260421T014141
CREATED:20251216T082006Z
LAST-MODIFIED:20251216T082403Z
UID:12951-1774310400-1774742399@eencyprus.org.cy
SUMMARY:High-Level Mission to Thailand to Promote Agricultural Products (May 24–28\, 2026)
DESCRIPTION:We would like to inform you that Commissioner Hansen will visit Thailand from May 24- 28\, 2026\, accompanied by a business delegation that will include up to 100 senior executives from European companies and agricultural and food sector producer organizations. \nThis mission will combine official meetings of the Commissioner with government officials\, as well as promotional activities involving the business delegation. These activities will include: \n\nSeminars on local market characteristics and consumer trends\nRetail and site visits\nNetworking opportunities\nParticipation in the Thaifex Anuga Asia fair in Bangkok\, where the EU will host a dedicated pavilion\nVisit to the pavilion\nTargeted B2B meetings with buyers\, importers and retailers from the South-East Asian region\n\nThe entrepreneurs participating in the mission should primarily\, but not exclusively\, represent the following sectors: \n\nMeat production\, processing\, and selling (beef\, pork\, poultry)\nProcessed agricultural products\nDairy products\nWine\, beer\, and alcoholic beverages\nOlive oil\nFruits and vegetables\n\nThe Commissioner wishes to include companies from all EU Member States in the business delegation\, focusing particularly on SMEs with reliable export capacity\, as well as large companies\, and national and European producer organizations from key sectors with significant prospects for trade and cooperation with Thailand. \n  \nParticipation & Financial Obligations:  \n\nSenior executives from producer organizations and individual businesses may\nParticipants must attend the entire\nTravel and accommodation expenses will be covered by the participants\nOnly one person per company/organization can officially participate in the business\nAccompanying members may attend\, but their access to certain events may be restricted due to the size of the mission.\n\nApplication Submission: \nInterested organizations and businesses are invited to complete the online application form by 19th of December 2025\, HERE. \nFor any clarifications\, you can contact the Research Executive Agency (REA) directly via email: \nREA-AGRI-EVENTS@ec.europa.eu. \n  \nSoti Christou Officer CCCI | Department of Services\, Trade and Digitalization Coordinator of Enterprise Europe Network Cyprus Tel. 22889769\, s.christou@ccci.org.cy
URL:https://eencyprus.org.cy/en/event/high-level-mission-to-thailand-to-promote-agricultural-products-may-24-28-2026/
ATTACH;FMTTYPE=image/png:https://eencyprus.org.cy/wp-content/uploads/2025/12/een-High-Level-Mission-to-Thailand-to-Promote-Agricultural-Products-.png
END:VEVENT
BEGIN:VEVENT
DTSTART;TZID=Asia/Nicosia:20260416T110000
DTEND;TZID=Asia/Nicosia:20260416T123000
DTSTAMP:20260421T014141
CREATED:20260415T053019Z
LAST-MODIFIED:20260415T053443Z
UID:13258-1776337200-1776342600@eencyprus.org.cy
SUMMARY:Seminar on Cross-Border E-Commerce to China via JD
DESCRIPTION:The Cyprus Chamber of Commerce and Industry (CCCI) would like to inform you about the organization of an online seminar to be held on 16 April 2026\, focusing on Cross-Border E-Commerce to China through the JD platform. \nThe online seminar is organized by the EU SME Centre\, in cooperation with the China-Italy Chamber of Commerce\, and addresses e-commerce options in China for companies wishing to enter the Chinese market from abroad. \nDuring the seminar\, participants will be introduced to the process of setting up and managing an online store through the JD.com platform\, with the aim of enhancing the export activities of European SMEs. \nSeminar Details: \n\nDate: 16 April 2026\nTime: 11:00 – 12:30 (Cyprus time)\nFormat: Online via Zoom\nLanguage: English\nParticipation Fee: Free of charge\n\nFor more information and registration\, please visit the following link: https://www.eusmecentre.org.cn/events/jd-for-cross-border-e-commerce-to-china/ \nCross-Border E-Commerce (CBEC) offers significant opportunities for European small and medium-sized enterprises\, enabling faster entry into the Chinese market at lower cost\, as well as access to more favorable tax conditions. In addition\, it allows the sale of products that would otherwise be subject to stricter import restrictions. \nThe event is addressed to all interested SMEs from European Union Member States and countries participating in the Single Market Programme. \nConstantinos Hadjipolykarpou | Officer Trade and Digitalisation Services
URL:https://eencyprus.org.cy/en/event/seminar-on-cross-border-e-commerce-to-china-via-jd/
ATTACH;FMTTYPE=image/png:https://eencyprus.org.cy/wp-content/uploads/2026/04/een-Seminar-on-Cross-Border-E-Commerce-to-China-via-JD.png
END:VEVENT
END:VCALENDAR