BEGIN:VCALENDAR
VERSION:2.0
PRODID:-//EEN Cyprus - ECPv6.15.20//NONSGML v1.0//EN
CALSCALE:GREGORIAN
METHOD:PUBLISH
X-WR-CALNAME:EEN Cyprus
X-ORIGINAL-URL:https://eencyprus.org.cy/en/
X-WR-CALDESC:Events for EEN Cyprus
REFRESH-INTERVAL;VALUE=DURATION:PT1H
X-Robots-Tag:noindex
X-PUBLISHED-TTL:PT1H
BEGIN:VTIMEZONE
TZID:Asia/Nicosia
BEGIN:DAYLIGHT
TZOFFSETFROM:+0200
TZOFFSETTO:+0300
TZNAME:EEST
DTSTART:20210328T010000
END:DAYLIGHT
BEGIN:STANDARD
TZOFFSETFROM:+0300
TZOFFSETTO:+0200
TZNAME:EET
DTSTART:20211031T010000
END:STANDARD
BEGIN:DAYLIGHT
TZOFFSETFROM:+0200
TZOFFSETTO:+0300
TZNAME:EEST
DTSTART:20220327T010000
END:DAYLIGHT
BEGIN:STANDARD
TZOFFSETFROM:+0300
TZOFFSETTO:+0200
TZNAME:EET
DTSTART:20221030T010000
END:STANDARD
BEGIN:DAYLIGHT
TZOFFSETFROM:+0200
TZOFFSETTO:+0300
TZNAME:EEST
DTSTART:20230326T010000
END:DAYLIGHT
BEGIN:STANDARD
TZOFFSETFROM:+0300
TZOFFSETTO:+0200
TZNAME:EET
DTSTART:20231029T010000
END:STANDARD
BEGIN:DAYLIGHT
TZOFFSETFROM:+0200
TZOFFSETTO:+0300
TZNAME:EEST
DTSTART:20240331T010000
END:DAYLIGHT
BEGIN:STANDARD
TZOFFSETFROM:+0300
TZOFFSETTO:+0200
TZNAME:EET
DTSTART:20241027T010000
END:STANDARD
BEGIN:DAYLIGHT
TZOFFSETFROM:+0200
TZOFFSETTO:+0300
TZNAME:EEST
DTSTART:20250330T010000
END:DAYLIGHT
BEGIN:STANDARD
TZOFFSETFROM:+0300
TZOFFSETTO:+0200
TZNAME:EET
DTSTART:20251026T010000
END:STANDARD
END:VTIMEZONE
BEGIN:VEVENT
DTSTART;TZID=Asia/Nicosia:20240511T170000
DTEND;TZID=Asia/Nicosia:20240511T220000
DTSTAMP:20260421T064238
CREATED:20240510T020422Z
LAST-MODIFIED:20240529T103549Z
UID:10578-1715446800-1715464800@eencyprus.org.cy
SUMMARY:Europe Day Celebration Event - Participation of EEN Cyprus with a Booth
DESCRIPTION:Every year on May 9th\, Europe Day is celebrated. \nThis date marks the anniversary of the historic “Schumann Declaration” through which Robert Schumann formulated his proposal for a new form of political cooperation in Europe\, capable of making war between European nations unthinkable. Robert Schumann’s proposal is considered the beginning of today’s European Union. \nCyprus will celebrate Europe Day and the 20th anniversary of its accession to the European Union on Saturday\, May 11\, 2024\, in Limassol. \nThe celebratory event will start at 17:00\, and visitors will have the opportunity to get acquainted with European institutions and programs\, European countries\, Limassol Municipality\, and schools that are ambassadors of the European Parliament in Cyprus. A Photography Exhibition and Art Program will follow. \nThe event will be honored and addressed by the President of the Republic of Cyprus\, Nikos Christodoulides\, the European Commissioner for Health and Food Safety\, Stella Kyriakides\, and the Mayor of Limassol\, Nikos Nicolaides. \nThe event is organized by the European Commission Representation in Cyprus\, the Office of the European Parliament in Cyprus\, and Limassol Municipality. \nThe Enterprise Europe Network Cyprus will participate in the event with a booth and will inform visitors about the services of the Network. \nFollowing is the Program. \nFor any further information or clarification\, please do not hesitate to contact us at the following phone numbers: 22889749/52/69 or via email at eency@ccci.org.cy
URL:https://eencyprus.org.cy/en/event/europe-day-celebration-event-participation-of-een-cyprus-with-a-booth/
ATTACH;FMTTYPE=image/png:https://eencyprus.org.cy/wp-content/uploads/2024/05/een-Europe-day-1-1.png
END:VEVENT
BEGIN:VEVENT
DTSTART;VALUE=DATE:20220607
DTEND;VALUE=DATE:20220610
DTSTAMP:20260421T064238
CREATED:20220523T050108Z
LAST-MODIFIED:20240529T082115Z
UID:10479-1654560000-1654819199@eencyprus.org.cy
SUMMARY:MariMatch at Posidonia 2022!
DESCRIPTION:Ναυτιλία\nΠερισσότερες πληροφορίες μπορείτε να βρείτε εδώ. \nΠροθεσμία Εγγραφής: 2 Ιουνίου 2022 \nMariMatch at Posidonia 2022!\nInternational Partnering Event of the Posidonia Exhibition \nAthens\, Greece
URL:https://eencyprus.org.cy/en/event/marimatch-at-posidonia-2022-2/
ATTACH;FMTTYPE=image/png:https://eencyprus.org.cy/wp-content/uploads/2024/05/3-300x300-1.png
END:VEVENT
END:VCALENDAR