BEGIN:VCALENDAR
VERSION:2.0
PRODID:-//EEN Cyprus - ECPv6.15.20//NONSGML v1.0//EN
CALSCALE:GREGORIAN
METHOD:PUBLISH
X-WR-CALNAME:EEN Cyprus
X-ORIGINAL-URL:https://eencyprus.org.cy
X-WR-CALDESC:Events for EEN Cyprus
REFRESH-INTERVAL;VALUE=DURATION:PT1H
X-Robots-Tag:noindex
X-PUBLISHED-TTL:PT1H
BEGIN:VTIMEZONE
TZID:Asia/Nicosia
BEGIN:DAYLIGHT
TZOFFSETFROM:+0200
TZOFFSETTO:+0300
TZNAME:EEST
DTSTART:20240331T010000
END:DAYLIGHT
BEGIN:STANDARD
TZOFFSETFROM:+0300
TZOFFSETTO:+0200
TZNAME:EET
DTSTART:20241027T010000
END:STANDARD
BEGIN:DAYLIGHT
TZOFFSETFROM:+0200
TZOFFSETTO:+0300
TZNAME:EEST
DTSTART:20250330T010000
END:DAYLIGHT
BEGIN:STANDARD
TZOFFSETFROM:+0300
TZOFFSETTO:+0200
TZNAME:EET
DTSTART:20251026T010000
END:STANDARD
BEGIN:DAYLIGHT
TZOFFSETFROM:+0200
TZOFFSETTO:+0300
TZNAME:EEST
DTSTART:20260329T010000
END:DAYLIGHT
BEGIN:STANDARD
TZOFFSETFROM:+0300
TZOFFSETTO:+0200
TZNAME:EET
DTSTART:20261025T010000
END:STANDARD
END:VTIMEZONE
BEGIN:VEVENT
DTSTART;TZID=Asia/Nicosia:20251217T090000
DTEND;TZID=Asia/Nicosia:20251217T140000
DTSTAMP:20260423T092915
CREATED:20251106T122728Z
LAST-MODIFIED:20251106T122728Z
UID:12870-1765962000-1765980000@eencyprus.org.cy
SUMMARY:"Η Στατιστική Επιστήμη ως εργαλείο λήψης αποφάσεων" για τις κυπριακές επιχειρήσεις.
DESCRIPTION:Το Enterprise Europe Network Κύπρου και η Κυπριακή Στατιστική Εταιρεία σας προσκαλούν στην ημερίδα με θέμα \n«Η Στατιστική Επιστήμη ως εργαλείο λήψης αποφάσεων για τις επιχειρήσεις». \nΗ ημερίδα θα πραγματοποιηθεί την Τετάρτη 17 Δεκεμβρίου 2025\, στις 9πμ\, στην αίθουσα εκδηλώσεων του ΚΕΒΕ (1ος όροφος)\, στη Λευκωσία. Την εκδήλωση υποστηρίζει η Στατιστική Υπηρεσία Κύπρου και ο Ευρωπαϊκός Κόμβος Καινοτομίας Κύπρου – DiGiNN. \nΣε μια εποχή που τα δεδομένα αποτελούν σημαντικό κεφάλαιο για κάθε επιχείρηση\, η στατιστική και η ανάλυση δεδομένων αναδεικνύονται κρίσιμα εργαλεία για  τις επιχειρήσεις που επιδιώκουν τεκμηριωμένες αποφάσεις. Σύμφωνα με πρόσφατες μελέτες\, οι εταιρείες που αξιοποιούν αποτελεσματικά τα δεδομένα έχουν 5 φορές μεγαλύτερη πιθανότητα να λαμβάνουν γρήγορες και σωστές αποφάσεις. Η ημερίδα αυτή στοχεύει να βοηθήσει επιχειρηματίες και στελέχη επιχειρήσεων να αξιοποιήσουν τη δύναμη των δεδομένων και της στατιστικής\, μετατρέποντάς τα σε πρακτική επιχειρηματική γνώση για ανταγωνιστικό πλεονέκτημα και απευθύνεται σε επιχειρηματίες\, διευθυντικά στελέχη και όσους/όσες ενδιαφέρονται για τη χρήση δεδομένων στη στρατηγική των επιχειρήσεων. \nΗ συμμετοχή στην εκδήλωση είναι δωρεάν. \nΑπαιτείται προεγγραφή: Παρακαλούμε δηλώστε συμμετοχή μέχρι την Παρασκευή 12 Δεκεμβρίου 2025 στον σύνδεσμο: https://forms.office.com/e/j3EHqYVmrF \nΠρόγραμμα: \n\n\n\n09:00 – 09:30\nΆφιξη και εγγραφές\n\n\n09:30 – 09:35 \nΣύντομοι χαιρετισμοί\n\n\n09:35 – 09:45\nΠαρουσίαση του Εnterprise Εurope Νetwork Κύπρου και των καθημερινών προκλήσεων που αντιμετωπίζουν οι κυπριακές επιχειρήσεις\n\n\n09:45 – 09:50\nΠαρουσίαση του Ευρωπαϊκού Κόμβου Ψηφιακής Καινοτομίας DiGiNN\n\n\n09:50 – 10:35\nΠαρουσίαση από την Στατιστική Υπηρεσία: Αξιοποιώντας τα στατιστικά δεδομένα της CYSTAT και της Eurostat για την ενίσχυση των επιχειρηματικών αποφάσεων\, Μαριλένα Λουκαΐδου\, Λειτουργός Στατιστικής Α’\n\n\n10:35 – 10:45 \nΣυζήτηση\n\n\n10:45 – 11:00\nΔιάλειμμα \n\n\n11:00 – 12:30 \nΠώς η Στατιστική Μετατρέπει τα Δεδομένα σε Επιχειρηματική Γνώση.   \nΔρ Χαριτίνη Τσαγκάρη\, Καθηγήτρια\, Πανεπιστήμιο Λευκωσίας\, Αντιπρόεδρος του Διοικητικού Συμβουλίου της Κυπριακής Στατιστικής Εταιρείας \nΔρ Ανδρέας Αναστασίου\, Επίκουρος Καθηγητής\, Πανεπιστήμιο Κύπρου\, Μέλος του Διοικητικού Συμβουλίου της Κυπριακής Στατιστικής Εταιρείας\n\n\n12:30 – 13:00\nΣυζήτηση\n\n\n13:00 – 14:00\nΕλαφρύ Γεύμα\n\n\n\nΓια περισσότερες πληροφορίες\, μπορείτε να επικοινωνήσετε μαζί μας στο 22894278 ή μέσω ηλεκτρονικού ταχυδρομείου στο christou.p.elpida@ucy.ac.cy.
URL:https://eencyprus.org.cy/event/i-statistiki-epistimi-os-ergaleio-lipsis-apofaseon-gia-tis-kypriakes-epicheiriseis/
ATTACH;FMTTYPE=image/png:https://eencyprus.org.cy/wp-content/uploads/2025/11/EENCSS_Event_FBPost.png
END:VEVENT
END:VCALENDAR