BEGIN:VCALENDAR
VERSION:2.0
PRODID:-//EEN Cyprus - ECPv6.15.20//NONSGML v1.0//EN
CALSCALE:GREGORIAN
METHOD:PUBLISH
X-ORIGINAL-URL:https://eencyprus.org.cy
X-WR-CALDESC:Events for EEN Cyprus
REFRESH-INTERVAL;VALUE=DURATION:PT1H
X-Robots-Tag:noindex
X-PUBLISHED-TTL:PT1H
BEGIN:VTIMEZONE
TZID:Asia/Nicosia
BEGIN:DAYLIGHT
TZOFFSETFROM:+0200
TZOFFSETTO:+0300
TZNAME:EEST
DTSTART:20250330T010000
END:DAYLIGHT
BEGIN:STANDARD
TZOFFSETFROM:+0300
TZOFFSETTO:+0200
TZNAME:EET
DTSTART:20251026T010000
END:STANDARD
BEGIN:DAYLIGHT
TZOFFSETFROM:+0200
TZOFFSETTO:+0300
TZNAME:EEST
DTSTART:20260329T010000
END:DAYLIGHT
BEGIN:STANDARD
TZOFFSETFROM:+0300
TZOFFSETTO:+0200
TZNAME:EET
DTSTART:20261025T010000
END:STANDARD
BEGIN:DAYLIGHT
TZOFFSETFROM:+0200
TZOFFSETTO:+0300
TZNAME:EEST
DTSTART:20270328T010000
END:DAYLIGHT
BEGIN:STANDARD
TZOFFSETFROM:+0300
TZOFFSETTO:+0200
TZNAME:EET
DTSTART:20271031T010000
END:STANDARD
END:VTIMEZONE
BEGIN:VEVENT
DTSTART;VALUE=DATE:20260120
DTEND;VALUE=DATE:20260123
DTSTAMP:20260423T073727
CREATED:20251119T102730Z
LAST-MODIFIED:20251119T102730Z
UID:12888-1768867200-1769126399@eencyprus.org.cy
SUMMARY:Είστε διεθνής εισαγωγέας και θέλετε να ανακαλύψετε υψηλής ποιότητας κρασιά; Η Εμπορική Αποστολή Κρασιού στη Rioja είναι η ιδανική επιλογή για εσάς.
DESCRIPTION:Το Κυπριακό Εμπορικό και Βιομηχανικό Επιμελητήριο\, ως συντονιστής του Enterprise Europe Network Κύπρου\, σας ενημερώνει για μια εξαιρετική διεθνή επιχειρηματική ευκαιρία στον τομέα του κρασιού. \nΗ Αποστολή Εμπορικών Συναντήσεων Κρασιού Rioja 2026 θα πραγματοποιηθεί από 20 έως 22 Ιανουαρίου 2026 στην Ισπανία\, συγκεντρώνοντας οινοποιεία της Rioja και διεθνείς εισαγωγείς κρασιού για τρεις ημέρες εξατομικευμένων επιχειρηματικών συναντήσεων και επισκέψεων σε οινοποιεία. \nΠληροφορίες Εκδήλωσης: \n\nΗμερομηνίες: 20–22 Ιανουαρίου 2026\nΤοποθεσία: La Rioja\, Ισπανία\nΠερισσότερες πληροφορίες & εγγραφές: Rioja Wine Trade Mission 2026\n\nΓιατί να Συμμετάσχετε:  \n\nΓνωρίστε 35 οινοποιεία της Rioja με εξαιρετικά κρασιά από την πρώτη Προστατευόμενη Ονομασία Προέλευσης της Ισπανίας (DOCa Rioja).\nΕπωφεληθείτε από κάλυψη εξόδων ταξιδιού και διαμονής (για διεθνείς αγοραστές με τουλάχιστον τρία έτη λειτουργίας και κύκλο εργασιών άνω των €500.000 – ενδέχεται να υπάρξουν εξαιρέσεις).\nΑνακαλύψτε μια εντυπωσιακή ποικιλία κρασιών: terroir\, βιολογικά\, signature wines και σπάνιες τοπικές ποικιλίες.\n\n Δείτε τη λίστα συμμετεχόντων οινοποιείων: Πατήστε εδώ \nΓια περισσότερες πληροφορίες μπορείτε να επικοινωνήσετε μαζί μας στο 22889769/66/49 ή μέσω email στο eency@ccci.org.cy \n  \nΣώτη Χρίστου | Λειτουργός ΚΕΒΕ | Τμήμα Υπηρεσιών\, Εμπορίου και Ψηφιοποίησης Enterprise Europe Network Κύπρου | Τηλ. 22889769\, s.christou@ccci.org.cy
URL:https://eencyprus.org.cy/event/eiste-diethnis-eisagogeas-kai-thelete-na-anakalypsete-ypsilis-poiotitas-krasia-i-emporiki-apostoli-krasiou-sti-rioja-einai-i-idaniki-epilogi-gia-esas/
ATTACH;FMTTYPE=image/png:https://eencyprus.org.cy/wp-content/uploads/2025/11/een-Rioja-Wine-Trade-Mission-2026.png
END:VEVENT
END:VCALENDAR