BEGIN:VCALENDAR
VERSION:2.0
PRODID:-//EEN Cyprus - ECPv6.15.20//NONSGML v1.0//EN
CALSCALE:GREGORIAN
METHOD:PUBLISH
X-ORIGINAL-URL:https://eencyprus.org.cy
X-WR-CALDESC:Events for EEN Cyprus
REFRESH-INTERVAL;VALUE=DURATION:PT1H
X-Robots-Tag:noindex
X-PUBLISHED-TTL:PT1H
BEGIN:VTIMEZONE
TZID:Asia/Nicosia
BEGIN:DAYLIGHT
TZOFFSETFROM:+0200
TZOFFSETTO:+0300
TZNAME:EEST
DTSTART:20250330T010000
END:DAYLIGHT
BEGIN:STANDARD
TZOFFSETFROM:+0300
TZOFFSETTO:+0200
TZNAME:EET
DTSTART:20251026T010000
END:STANDARD
BEGIN:DAYLIGHT
TZOFFSETFROM:+0200
TZOFFSETTO:+0300
TZNAME:EEST
DTSTART:20260329T010000
END:DAYLIGHT
BEGIN:STANDARD
TZOFFSETFROM:+0300
TZOFFSETTO:+0200
TZNAME:EET
DTSTART:20261025T010000
END:STANDARD
BEGIN:DAYLIGHT
TZOFFSETFROM:+0200
TZOFFSETTO:+0300
TZNAME:EEST
DTSTART:20270328T010000
END:DAYLIGHT
BEGIN:STANDARD
TZOFFSETFROM:+0300
TZOFFSETTO:+0200
TZNAME:EET
DTSTART:20271031T010000
END:STANDARD
END:VTIMEZONE
BEGIN:VEVENT
DTSTART;TZID=Asia/Nicosia:20260428T150000
DTEND;TZID=Asia/Nicosia:20260428T170000
DTSTAMP:20260420T192944
CREATED:20260420T105556Z
LAST-MODIFIED:20260420T105556Z
UID:13263-1777388400-1777395600@eencyprus.org.cy
SUMMARY:Ενημερωτική Εκδήλωση για τις Νέες Προσκλήσεις ΙδΕΚ
DESCRIPTION:Το Ίδρυμα Έρευνας και Καινοτομίας (ΙδΕΚ) προχώρησε με τη δημοσίευση δύο νέων Προσκλήσεων Υποβολής Προτάσεων\, στο πλαίσιο των Προγραμμάτων «Διερεύνηση Βιομηχανικής Εφαρμογής Τεχνολογίας / Τεχνογνωσίας (Proof of Concept)» και «Έρευνα στις Επιχειρήσεις (Research in Enterprises)». \nΤο πρόγραμμα Proof of Concept αφορά την προκαταρτική διερεύνηση των πιθανών βιομηχανικών εφαρμογών μιας τεχνολογίας ή τεχνογνωσίας\, ενώ το πρόγραμμα Έρευνα στις Επιχειρήσεις εστιάζει στη δημιουργία νέων ή στην ουσιαστική βελτίωση προϊόντων\, υπηρεσιών και μεθόδων παραγωγής από κυπριακές επιχειρήσεις. \nΤα δύο προγράμματα στηρίζουν την ανάπτυξη καινοτόμων προϊόντων και υπηρεσιών και προωθούν την εμπορική αξιοποίηση ερευνητικών αποτελεσμάτων από οργανισμούς έρευνας\, συμβάλλοντας ουσιαστικά στην ενίσχυση της συνεργασίας μεταξύ της ερευνητικής κοινότητας και του επιχειρηματικού κόσμου. \nΣτο πλαίσιο αυτό\, το ΙδΕΚ παρουσιάζει επίσης το νέο εργαλείο MatchMe\, το οποίο διευκολύνει την αναζήτηση συνεργατών και τη δημιουργία νέων συνεργασιών μεταξύ επιχειρήσεων και ερευνητικών οργανισμών. \nΤο ΚΕΒΕ\, σε συνεργασία με το ΙδΕΚ\, στα πλαίσια των δραστηριοτήτων του Enterprise Europe Network διοργανώνουν δωρεάν ενημερωτική εκδήλωση την Τρίτη 28 Απριλίου και ώρα 15:00 στο κτήριο του ΚΕΒΕ. \nΟι ενδιαφερόμενοι μπορούν να δηλώσουν την συμμετοχή τους το αργότερο μέχρι την Παρασκευή 24 Απριλίου 2026 πατώντας εδώ. \n   \nΜιχάλης Κούλλουρος Λειτουργός \nΤμήμα Βιομηχανικής Ανάπτυξης\, Καινοτομίας και Περιβάλλοντος
URL:https://eencyprus.org.cy/event/enimerotiki-ekdilosi-gia-tis-nees-proskliseis-idek/
ATTACH;FMTTYPE=image/png:https://eencyprus.org.cy/wp-content/uploads/2026/04/een-Ενημερωτική-Εκδήλωση-για-τις-Νέες-Προσκλήσεις-ΙδΕΚ.png
END:VEVENT
BEGIN:VEVENT
DTSTART;TZID=Asia/Nicosia:20260430T090000
DTEND;TZID=Asia/Nicosia:20260430T120000
DTSTAMP:20260420T192944
CREATED:20260331T063313Z
LAST-MODIFIED:20260331T064023Z
UID:13230-1777539600-1777550400@eencyprus.org.cy
SUMMARY:Ενίσχυση της Ανθεκτικότητας και της Βιωσιμότητας των Επιχειρήσεων μέσω της Τηλεργασίας: Νομικό Πλαίσιο - Ασφάλεια & Υγεία - Ψηφιακά Εργαλεία
DESCRIPTION:Το ΚΕΒΕ\, ως EEN OSH Ambassador\, σε συνεργασία με το Τμήμα Επιθεώρησης Εργασίας (ΤΕΕ) και το Enterprise Europe Network Κύπρου\, διοργανώνει ενημερωτική ημερίδα με θέμα την τηλεργασία στον ιδιωτικό τομέα\, η οποία θα πραγματοποιηθεί στο ΚΕΒΕ. \nΗ εκδήλωση στοχεύει στην ενημέρωση και υποστήριξη των επιχειρήσεων αναφορικά με το υφιστάμενο θεσμικό πλαίσιο\, τις υποχρεώσεις εργοδοτών και εργαζομένων\, καθώς και τα διαθέσιμα ψηφιακά εργαλεία που διευκολύνουν την ασφαλή και αποτελεσματική εφαρμογή της τηλεργασίας. \nΛεπτομέρειες εκδήλωσης: \n\nΗμερομηνία: 30 Απριλίου 2026\nΏρα: 9:00 – 12:00\nΧώρος: 1ος όροφος\, ΚΕΒΕ\nΓλώσσα: Ελληνικά\n\nΣτους συμμετέχοντες θα δοθεί πιστοποιητικό παρακολούθησης. Για εγγραφή πατήστε ΕΔΩ. \nΓια οποιεσδήποτε περαιτέρω πληροφορίες επικοινωνήστε μαζί μας στo τηλέφωνο 22889880 ή στα email eency@ccci.org.cy\, a.alexi@ccci.org.cy. \n  \nΑνδρέας Αλέξη\, Λειτουργός | Τμήματος Εργασιακών Σχέσεων | Κοινωνικής Πολιτικής & Ανάπτυξης Ανθρώπινου Δυναμικού. \n  \nΠρόγραμμα Εκδήλωσης \n  \n\n\n\n9:00 – 9:15\nΠροσέλευση & Εγγραφές\n\n\n  \n9:15 – 9:20\nΧαιρετισμός \nΑνδρέας Ανδρέου\, Αναπληρωτής Γενικός Γραμματέας KEBE\n\n\n  \n9:20 – 9:30\nEnterprise Europe Network Κύπρου \nAνδρέας Αλέξη\, Λειτουργός Τμήματος Εργασιακών Σχέσεων\, Κοινωνικής Πολιτικής & Ανάπτυξης Ανθρώπινου Δυναμικού ΚΕΒΕ\n\n\n  \n9:30 – 10:00\nΤο νομοθετικό πλαίσιο για την τηλεργασία στον ιδιωτικό τομέα \nΞένιος Μάμας\, Ανώτερος Λειτουργός Εργασιακών Σχέσεων\, Τμήμα Εργασιακών Σχέσεων\, Υπουργείο Εργασίας και Κοινωνικών Ασφαλίσεων\n\n\n  \n  \n  \n10:00 – 10:30\n Ασφάλεια και Υγεία κατά την Τηλεργασία \nΥποχρεώσεις εργοδοτών και εργοδοτουμένων σε θέματα Ασφάλειας και Υγείας κατά την τηλεργασία \nΔρ. Όλγα Νικολαΐδου\, Λειτουργός Επιθεώρησης Εργασίας\, Εκπρόσωπος Εθνικού Εστιακού Πόλου EU-OSHA\, \nΤμήμα Επιθεώρησης Εργασίας\, Υπουργείο Εργασίας και Κοινωνικών Ασφαλίσεων\n\n\n10:30 – 10:45\nΔιάλειμμα\n\n\n  \n  \n10:45 – 11:15\nΠαρουσίαση του δωρεάν ψηφιακού εργαλείου αξιολόγησης κινδύνων \nOiRA για την Τηλεργασία (Ιδιωτικός Τομέας) \nΔρ. Όλγα Νικολαΐδου\, Λειτουργός Επιθεώρησης Εργασίας\, Εκπρόσωπος Εθνικού Εστιακού Πόλου EU-OSHA\, \nΤμήμα Επιθεώρησης Εργασίας\, Υπουργείο Εργασίας και Κοινωνικών Ασφαλίσεων\n\n\n  \n11:15 – 12:00\n Ενίσχυση της κυβερνοασφάλειας κατά την Τηλεργασία \nΓιώργος Πράτσος\, Σύμβουλος Τεχνητής Νοημοσύνης & Ψηφιακής Ασφάλειας\n\n\n12:00 – 12:30\nΣυζήτηση – Ερωτήσεις & Απαντήσεις\n\n\n\n 
URL:https://eencyprus.org.cy/event/enischysi-tis-anthektikotitas-kai-tis-viosimotitas-ton-epicheiriseon-meso-tis-tilergasias-nomiko-plaisio-asfaleia-ygeia-psifiaka-ergaleia/
ATTACH;FMTTYPE=image/png:https://eencyprus.org.cy/wp-content/uploads/2026/03/een-OSH-health-safety.png
END:VEVENT
BEGIN:VEVENT
DTSTART;VALUE=DATE:20260630
DTEND;VALUE=DATE:20260704
DTSTAMP:20260420T192944
CREATED:20260406T071517Z
LAST-MODIFIED:20260406T071517Z
UID:13243-1782777600-1783123199@eencyprus.org.cy
SUMMARY:GITEX AI EUROPE 2026
DESCRIPTION:Η κορυφαία παγκόσμια εκδήλωση δικτύωσης στον τομέα της τεχνολογίας και των startup! \nΘα θέλαμε να σας ενημερώσουμε ότι το Enterprise Europe Network Βερολίνου- Βρανδεμβούργου διοργανώνει την εκδήλωση επιχειρηματικών συναντήσεων (Β2Β) \n«Matchmaking @GITEX AI EUROPE» στα πλαίσια της διεθνούς έκθεσης GITEX EUROPE. \nΗ εκδήλωση συγκεντρώνει εταιρείες\, αγοραστές και προμηθευτές\, από μεγάλο αριθμό ευρωπαϊκών χωρών. Αποτελεί μια μοναδική ευκαιρία για την επέκταση του επιχειρηματικού σας δικτύου και την έναρξη στρατηγικών συνεργειών. Ο τρόπος οργάνωσης των επιχειρηματικών συναντήσεων είναι αποδοτικός τόσο ως προς τον χρόνο όσο και το κόστος\, ενισχύοντας τη διασύνδεση και την ουσιαστική ανταλλαγή ευκαιριών μεταξύ των συμμετεχόντων. \nΟι συναντήσεις θα έχουν διάρκεια 20 λεπτών η καθεμία και θα πραγματοποιούνται είτε δια ζώσης στο Messe Berlin (30 Ιουνίου – 1 Ιουλίου 2026) είτε διαδικτυακά (2 – 3 Ιουλίου 2026). Όλες οι συναντήσεις θα προγραμματίζονται εκ των προτέρων μέσω ειδικής πλατφόρμας. \nΗ συμμετοχή (δια ζώσης ή διαδικτυακή) στο Matchmaking @GITEX AI EUROPE\, που διοργανώνει το Enterprise Europe Network Βερολίνου–Βρανδεμβούργου\, είναι δωρεάν. \nΓια τις δια ζώσης συναντήσεις απαιτείται η κατοχή έγκυρου εισιτηρίου για την είσοδο στην Έκθεση. Ωστόσο\, παρέχεται η δυνατότητα απόκτησης δωρεάν ημερήσιου πάσου εισόδου\, εφόσον έχετε τουλάχιστον τρεις επιβεβαιωμένες επιτόπιες συναντήσεις στο Matchmaking. Ο e‑κωδικός θα αποσταλεί λίγες ημέρες πριν από την εκδήλωση\, κατόπιν αιτήματος. \nΛεπτομέρειες της εκδήλωσης \n\nΤοποθεσία: INVESTORS LOUNGE Hall 2 @Messe Berlin\nΗμερομηνία Δια Ζώσης συναντήσεων: 30 Ιουνίου –1 Ιουλίου\, 2026\nΗμερομηνία Διαδυκτιακών συναντήσεων: 2 – 3 Ιουλίου\, 2026\nΠροθεσμία εγγραφής: 3 Ιουλίου\, 2026\n\nΓιατί να συμμετάσχετε; \n\nΩς αγοραστής – Βρείτε εξειδικευμένους προμηθευτές μέσω αποτελεσματικών one- to-one συναντήσεων.\nΩς διευθυντής αγοράς/πωλήσεων – Εντοπίστε νέους πελάτες.\nΩς υπεύθυνος ανάπτυξης προϊόντων – Βρείτε συνεργάτες για να συζητήσετε νέες τεχνολογίες και καινοτόμες λύσεις.\n\nΠώς μπορείτε να επωφεληθείτε από αυτή την εκδήλωση; \n\nΔημοσιεύστε και παρουσιάστε τα προϊόντα\, τις υπηρεσίες\, τα έργα ή τις επιχειρηματικές σας ανάγκες στους συμμετέχοντες της εκδήλωσης.\nΟργανώστε και   προγραμματίστε   προκαθορισμένες  συναντήσεις με πολλά υποσχόμενους συνεργάτες στην εκδήλωση.\nΔημιουργήστε νέες επαφές και επεκτείνετε το δίκτυό σας με αποδοτικό χρόνο και κόστος.\nΕξασφαλίστε περισσότερη ορατότητα και παρουσία στην εκδήλωση για να ξεχωρίσετε από τους ανταγωνιστές σας\n\nΓια περισσότερες πληροφορίες και εγγραφή\, πατήστε ΕΔΩ. \nΓια οποιαδήποτε απορία\, παρακαλούμε όπως επικοινωνήσετε μαζί μας στο 22889749/66/69 η μέσω ηλεκτρονικού ταχυδρομείου στο eency@ccci.org.cy . \nΧριστίνα Παναγίδη Λειτουργός ΚΕΒΕ | Τμήμα Υπηρεσιών\, Εμπορίου και Ψηφιοποίησης Enterprise Europe Network Cyprus
URL:https://eencyprus.org.cy/event/gitex-ai-europe-2026/
ATTACH;FMTTYPE=image/png:https://eencyprus.org.cy/wp-content/uploads/2026/04/een-GITEX-AI-EUROPE-2026.png
END:VEVENT
END:VCALENDAR