BEGIN:VCALENDAR
VERSION:2.0
PRODID:-//EEN Cyprus - ECPv6.15.20//NONSGML v1.0//EN
CALSCALE:GREGORIAN
METHOD:PUBLISH
X-WR-CALNAME:EEN Cyprus
X-ORIGINAL-URL:https://eencyprus.org.cy
X-WR-CALDESC:Events for EEN Cyprus
REFRESH-INTERVAL;VALUE=DURATION:PT1H
X-Robots-Tag:noindex
X-PUBLISHED-TTL:PT1H
BEGIN:VTIMEZONE
TZID:Asia/Nicosia
BEGIN:DAYLIGHT
TZOFFSETFROM:+0200
TZOFFSETTO:+0300
TZNAME:EEST
DTSTART:20220327T010000
END:DAYLIGHT
BEGIN:STANDARD
TZOFFSETFROM:+0300
TZOFFSETTO:+0200
TZNAME:EET
DTSTART:20221030T010000
END:STANDARD
BEGIN:DAYLIGHT
TZOFFSETFROM:+0200
TZOFFSETTO:+0300
TZNAME:EEST
DTSTART:20230326T010000
END:DAYLIGHT
BEGIN:STANDARD
TZOFFSETFROM:+0300
TZOFFSETTO:+0200
TZNAME:EET
DTSTART:20231029T010000
END:STANDARD
BEGIN:DAYLIGHT
TZOFFSETFROM:+0200
TZOFFSETTO:+0300
TZNAME:EEST
DTSTART:20240331T010000
END:DAYLIGHT
BEGIN:STANDARD
TZOFFSETFROM:+0300
TZOFFSETTO:+0200
TZNAME:EET
DTSTART:20241027T010000
END:STANDARD
BEGIN:DAYLIGHT
TZOFFSETFROM:+0200
TZOFFSETTO:+0300
TZNAME:EEST
DTSTART:20250330T010000
END:DAYLIGHT
BEGIN:STANDARD
TZOFFSETFROM:+0300
TZOFFSETTO:+0200
TZNAME:EET
DTSTART:20251026T010000
END:STANDARD
END:VTIMEZONE
BEGIN:VEVENT
DTSTART;VALUE=DATE:20240922
DTEND;VALUE=DATE:20240928
DTSTAMP:20260421T051033
CREATED:20240607T065026Z
LAST-MODIFIED:20240607T065403Z
UID:11059-1726963200-1727481599@eencyprus.org.cy
SUMMARY:Επιχειρηματική αποστολή ευρωπαϊκών ΜμΕ στην Κίνα: Πράσινες Βιομηχανίες
DESCRIPTION:Εξερευνήστε τις δυνατότητες της κινεζικής αγοράς για την επιχείρησή σας με την υποστήριξη του Κέντρου ΜμΕ της ΕΕ! \nΘα θέλαμε να σας ενημερώσουμε ότι το Κέντρο ΜμΕ της ΕΕ (EU SME Centre)\, διοργανώνει επιχειρηματική αποστολή Ευρωπαϊκών μικρομεσαίων επιχειρήσεων (ΜμΕ) στην Κίνα. Η αποστολή θα επικεντρωθεί στις πράσινες βιομηχανίες και θα περιλαμβάνει συμμετοχή στην έκθεση Ευρώπη-Κίνα 2024\, ένα πρόγραμμα επιχειρηματικών συναντήσεων\, εκδηλώσεων δικτύωσης\, σεμιναρίων\, επισκέψεων σε βιομηχανικά πάρκα στη Σαγκάη\, τη Σουτσόου και την Τσενγκντού. \n\nΗμερομηνίες αποστολής: Από τις 22 Σεπτεμβρίου έως τις 27 Σεπτεμβρίου 2024\nΤοποθεσία: Κίνα / Σαγκάη\, Σουτσόου\, Τσενγκντού\nΠροθεσμία υποβολής αιτήσεων: Παρασκευή 28 Ιουνίου 2024\n\nΚύρια σημεία του προγράμματος: \nΜε αυτή την εμπορική αποστολή\, θα έχετε την ευκαιρία να: \n\nΣυμμετάσχετε στην 18η Έκθεση Επιχειρηματικής και Τεχνολογικής Συνεργασίας Ευρώπης-Κίνας στη Τσενγκντού.\nΕπισκεφθείτε τα σινοευρωπαϊκά βιομηχανικά πάρκα στη Σουτσόου.\nΣυναντηθείτε με επιτυχημένες ευρωπαϊκές ΜμΕ στη Σαγκάη.\nΣυμμετάσχετε σε συζητήσεις εμπειρογνωμόνων για τις οικονομικές προοπτικές και τις τάσεις της αγοράς της Κίνας.\nΣυμμετάσχετε σε τεχνικές εκπαιδεύσεις σχετικά με τις εξαγωγικές διαδικασίες και τους κανονισμούς της αγοράς.\nΔημιουργήσετε νέες σχέσεις με πιθανούς εταίρους στην Κίνα.\nΈχετε προσωπικές συναντήσεις που θα οδηγήσουν σε πιθανές επιχειρηματικές ευκαιρίες.\n\nΠοιος μπορεί να υποβάλει αίτηση; \nΗ παρούσα πρόσκληση υποβολής αιτήσεων είναι ανοικτή σε ιδιοκτήτες ΜμΕ και άτομα που εργάζονται για ΜμΕ\, νεοσύστατες επιχειρήσεις ή ομάδες και βιομηχανικές ενώσεις από την Ευρωπαϊκή Ένωση και τις χώρες που είναι συνδεδεμένες με το πρόγραμμα για την ενιαία αγορά και δραστηριοποιούνται στους ακόλουθους κλάδους: \n\nΠράσινες τεχνολογίες\nΑνανεώσιμες πηγές ενέργειας και αποθήκευση ενέργειας\nΠεριβαλλοντικές υπηρεσίες\nΕπεξεργασία νερού\nΚατασκευή βιώσιμου εξοπλισμού\nΑνακύκλωση\nΜείωση των αποβλήτων\nΠροηγμένα υλικά\nΠάροχοι πράσινων υπηρεσιών κατά μήκος της εφοδιαστικής αλυσίδας\nΆλλες λύσεις πράσινης ανάπτυξης.\n\nΚόστος: \nΟι υπηρεσίες του Κέντρου ΜμΕ της ΕΕ χρηματοδοτούνται από την Ευρωπαϊκή Ένωση και είναι δωρεάν για τους συμμετέχοντες στην αποστολή. Όλες οι συναντήσεις\, τα σεμινάρια\, οι δεξιώσεις και οι άλλες δραστηριότητες που περιλαμβάνονται στο πρόγραμμα καλύπτονται από το Κέντρο ΜμΕ της ΕΕ. \nΟι συμμετέχοντες είναι υπεύθυνοι για την κάλυψη των εξόδων μετακίνησης\, διαμονής και διατροφής τους\, συμπεριλαμβανομένων: \n\nΠτήσεις και άλλα έξοδα ταξιδιού από και προς την Κίνα.\nΜετακινήσεις μεταξύ πόλεων εντός της Κίνας από τη Σαγκάη στη Σουτσόου και από τη Σουτσόου στη Τσενγκντού.\nΔιαμονή σε ξενοδοχεία στη Σαγκάη\, τη Σουτσόου και τη Τσενγκντού.\nΆλλα έξοδα διαβίωσης στην Κίνα\, συμπεριλαμβανομένων των τοπικών μεταφορών και γευμάτων.\n\nΓια περισσότερες πληροφορίες\, μπορείτε να επισκεφθείτε στη ιστοσελίδα του EU SME Centre ΕΔΩ. \nΕπικοινωνία: \nΕάν έχετε οποιαδήποτε ερώτηση σχετικά με την επιχειρηματική αποστολή για τις ΜμΕ\, μπορείτε να επικοινωνήσετε με τον επικεφαλής της ομάδας του Κέντρου ΜμΕ της ΕΕ\, Liam Jia\, στο liam.jia@eusmecentre.org.cn και τον διευθυντή εταιρικών σχέσεων με την ΕΕ\, Davide Orlandi\, στο davide.orlandi@eusmecentre.org.cn. \nΠαραμένοντας στη διάθεσή σας. \nΣώτη Χρίστου Λειτουργός ΚΕΒΕ | Τμήμα Ευρωπαϊκών θεμάτων και προγραμμάτων Tηλ: 22889769 Email: s.christou@ccci.org.cy 
URL:https://eencyprus.org.cy/event/epicheirimatiki-apostoli-evropaikon-mme-stin-kina-prasines-viomichanies/
ATTACH;FMTTYPE=image/jpeg:https://eencyprus.org.cy/wp-content/uploads/2024/06/een-EU-SME-BUSINESS-1030x1030-1.jpg
END:VEVENT
BEGIN:VEVENT
DTSTART;TZID=Asia/Nicosia:20240909T100000
DTEND;TZID=Asia/Nicosia:20240909T113000
DTSTAMP:20260421T051033
CREATED:20240902T112801Z
LAST-MODIFIED:20240902T112801Z
UID:11530-1725876000-1725881400@eencyprus.org.cy
SUMMARY:
DESCRIPTION:Το Ίδρυμα Έρευνας και Καινοτομίας/ Research and Innovation Foundation (ΙδΕΚ) διοργανώνει παρουσίαση του Χρηματοδοτικού Προγράμματος «Ενίσχυση Ικανότητας Επιχειρήσεων για Ανάπτυξη Νέων Προϊόντων» \n\n Δευτέρα 9 Σεπτεμβρίου 2024\,\n 10:00π.μ.\,\n Ξενοδοχείο Hilton Nicosia. \n\n\n\n Στόχος του προγράμματος η υποστήριξη επιχειρήσεων οι οποίες απασχολούν 30 ή περισσότερους υπαλλήλους\, για να στελεχωθούν με εξειδικευμένο προσωπικό σε θέματα ανάπτυξης προϊόντων\, και να εμπλακούν σε δραστηριότητες έρευνας και ανάπτυξης που αποσκοπούν στην δημιουργία νέων προϊόντων και υπηρεσιών.\n\n\nΗ μέγιστη χρηματοδότηση ανά έργο ανέρχεται στις €30 χιλιάδες. \nΗ υποβολή προτάσεων γίνεται μέσα από την πύλη IRIS του ΙδΕΚ. Το έντυπο\, καθώς και η διαδικασία υποβολής\, είναι απλοποιημένα και δεν απαιτούν πληθώρα εγγράφων και χρόνο για τη συμπλήρωσή τους\, διευκολύνοντας έτσι τους αιτούντες. Η τελική καταληκτική ημερομηνία είναι η 9η Οκτωβρίου 2024\, ώρα 13:00. \nΓια περαιτέρω πληροφορίες\, οι ενδιαφερόμενοι μπορούν να απευθύνονται στο Κέντρο Εξυπηρέτησης Συνεργατών του ΙδΕΚ στο τηλέφωνο 22205000 και στο ηλεκτρονικό ταχυδρομείο support@research.org.cy. \n\n\nEγγραφή: https://www.powr.io/contact-form/i/38547178#page
URL:https://eencyprus.org.cy/event/11530/
ATTACH;FMTTYPE=image/png:https://eencyprus.org.cy/wp-content/uploads/2024/05/default_header-2048x779-1.png
END:VEVENT
BEGIN:VEVENT
DTSTART;TZID=Asia/Nicosia:20240904T100000
DTEND;TZID=Asia/Nicosia:20240904T120000
DTSTAMP:20260421T051034
CREATED:20240819T062127Z
LAST-MODIFIED:20240819T062127Z
UID:11434-1725444000-1725451200@eencyprus.org.cy
SUMMARY:Προκήρυξη Προγράμματος «Εμπορική Διερεύνηση Βιομηχανικής Εφαρμογής Τεχνολογίας/Τεχνογνωσίας» στον τομέα της Ενέργειας Διοργάνωση webinar
DESCRIPTION:Το Ίδρυμα Έρευνας και Καινοτομίας (ΙδΕΚ) έχει ανακοινώσει το νέο χρηματοδοτικό πρόγραμμα «Εμπορική Διερεύνηση Βιομηχανικής Εφαρμογής Τεχνολογίας / Τεχνογνωσίας – Ενέργεια» με προϋπολογισμό €1\,6 εκ. που στοχεύει στην επιτάχυνση της καινοτομίας στον τομέα της ενέργειας. \nΤο πρόγραμμα στοχεύει: \n\nΣτην επιτάχυνση της καινοτομίας στους τομείς παραγωγής\, αποθήκευσης\, μεταφοράς και διανομής ενέργειας.\nΣτην αντιμετώπιση προκλήσεων όπως η ενσωμάτωσή τους στο ενεργειακό δίκτυο\, η χρήση ανανεώσιμων πηγών και η βελτίωση της ανθεκτικότητας του ενεργειακού συστήματος.\nΣτην υποστήριξη της μετάβασης από πιλοτικές εφαρμογές σε εμπορική ετοιμότητα.\nΣτην ενίσχυση της έρευνας και ανάπτυξης για την αναβάθμιση και βελτιστοποίηση τεχνολογιών.\nΣτη βελτίωση της απόδοσης\, αξιοπιστίας και κόστους-αποτελεσματικότητας νέων και υφιστάμενων τεχνολογιών\, προκειμένου να εξασφαλιστεί η βιωσιμότητά τους και η ευρεία υιοθέτησή τους.\n\nΤο πρόγραμμα παρέχει στις επιχειρήσεις τη δυνατότητα να αξιολογήσουν αν οι τεχνολογίες ή τεχνογνωσίες που αναπτύσσουν μπορούν να εφαρμοστούν εμπορικά σε βιομηχανικά περιβάλλοντα\, εστιάζοντας σε τεχνολογίες που σχετίζονται με τις προκλήσεις της παραγωγής\, αποθήκευσης\, μεταφοράς και διανομής ενέργειας. \nΓια να χρηματοδοτηθούν\, τα ερευνητικά έργα πρέπει να επικεντρώνονται σε πειραματική ανάπτυξη νέων τεχνολογιών που έχουν προοπτική εμπορικής αξιοποίησης. Το Πρόγραμμα εντάσσεται στον Πυλώνα Ι «Έξυπνη Ανάπτυξη»\, που είναι μέρος της Στρατηγικής Έξυπνης Εξειδίκευσης 2023-2030\, και πρέπει να συμβαδίζει με τους στόχους του REPowerEU\, που αφορούν τη μετάβαση σε καθαρές πηγές ενέργειας και την ενίσχυση της ενεργειακής ασφάλειας. \nΗ μέγιστη χρηματοδότηση ανά έργο ανέρχεται στις €200.000 και οι ενδιαφερόμενοι μπορούν να βρουν περισσότερες πληροφορίες στον ακόλουθο σύνδεσμο: https://t.ly/3xQsR. \nH υποβολή προτάσεων γίνεται μέσω της πύλης IRIS και η καταληκτική ημερομηνία είναι η 25 Οκτωβρίου 2024 και ώρα 13:00. \nΕπιπρόσθετα\, το ΙδΕΚ\, θα διοργανώσει στις 4 Σεπτεμβρίου 2024 και ώρα 10πμ\, webinar για παρουσίαση της πρόσκλησης και επίλυση αποριών αναφορικά με τους κανονισμούς και τις προϋποθέσεις συμμετοχής στο πρόγραμμα. Το webinar θα πραγματοποιηθεί διαδικτυακά\, μέσω της πλατφόρμας ZOOM. Οι ενδιαφερόμενοι θα πρέπει να εγγραφούν εκ των προτέρων εδώ. \nΗ παρούσα Πρόσκληση χρηματοδοτείται από τον Μηχανισμό Ανάκαμψης και Ανθεκτικότητας. \nΓια περισσότερες πληροφορίες οι ενδιαφερόμενοι μπορούν να επικοινωνούν με το Κέντρο Εξυπηρέτησης Συνεργατών του ΙδΕΚ στο τηλ.: 22205000 ή μέσω email στο support@research.org.cy. \n  \nΣτάλω Δημοσθένους Ανώτερη Λειτουργός ΚΕΒΕ | Τμήμα Ευρωπαϊκών Θεμάτων και Προγραμμάτων Συντονίστρια Enterprise Europe Network Κύπρου | Τηλ. 22889752 |E-mail: stalo@ccci.org.cy
URL:https://eencyprus.org.cy/event/prokiryksi-programmatos-emporiki-dierevnisi-viomichanikis-efarmogis-technologias-technognosias-ston-tomea-tis-energeias-diorganosi-webinar/
ATTACH;FMTTYPE=image/png:https://eencyprus.org.cy/wp-content/uploads/2024/08/een-Commercial-Proof-of-Concept-–-Energy-.png
END:VEVENT
BEGIN:VEVENT
DTSTART;TZID=Asia/Nicosia:20240511T170000
DTEND;TZID=Asia/Nicosia:20240511T220000
DTSTAMP:20260421T051034
CREATED:20240510T020422Z
LAST-MODIFIED:20240529T103533Z
UID:10580-1715446800-1715464800@eencyprus.org.cy
SUMMARY:Εορταστική Εκδήλωση για την Ημέρα της Ευρώπης - Συμμετοχή του EEN Κύπρου με περίπτερο
DESCRIPTION:Κάθε χρόνο στις 9 Μαΐου γιορτάζεται η Ημέρα της Ευρώπης. \nΑυτή η ημερομηνία σηματοδοτεί την επέτειο της ιστορικής “Διακήρυξης Σούμαν”\, με την οποία ο Ρόμπερτ Σούμαν διατύπωσε την πρότασή του για ένα νέο μορφή πολιτικής συνεργασίας στην Ευρώπη\, ικανή να καταστήσει τον πόλεμο μεταξύ των ευρωπαϊκών εθνών αδιανόητο. Η πρόταση του Ρόμπερτ Σούμαν θεωρείται η αρχή της σημερινής Ευρωπαϊκής Ένωσης. \nΗ Κύπρος θα γιορτάσει την Ημερά της Ευρώπης και τα 20 χρόνια από την ένταξη της στην Ευρωπαϊκή Ένωση το Σάββατο 11 Μαΐου 2024 στη Λεμεσό. \nΗ εορταστική εκδήλωση θα ξεκινήσει στις 17:00 και οι επισκέπτες θα έχουν την ευκαιρία να γνωρίσουν από κοντά τους Ευρωπαϊκούς θεσμούς και τα προγράμματα\, τις χώρες της Ευρώπης\, το Δήμο Λεμεσού και τα σχολεία πρεσβευτές του Ευρωπαϊκού Κοινοβουλίου στην Κύπρο. Θα ακολουθήσει Έκθεση Φωτογραφίας και Καλλιτεχνικό πρόγραμμα. \nΤην εκδήλωση θα τιμήσουν με την παρουσία τους και θα χαιρετίσουν η ΑΕ ο Πρόεδρος της Κυπριακής Δημοκρατίας\, Νίκος Χριστοδουλίδης\, η Ευρωπαία Επίτροπος για Θέματα Υγείας και Ασφάλειας Τροφίμων Στέλλα Κυριακίδου\, και ο Δήμαρχος Λεμεσού Νίκος Νικολαΐδης. \nΗ Εκδήλωση διοργανώνεται από την Αντιπροσωπεία της Ευρωπαϊκής Επιτροπής στην Κύπρο\, το Γραφείο του Ευρωπαϊκού Κοινοβουλίου στην Κύπρο και το Δήμο Λεμεσού. \nTo Enterprise Europe Network Κύπρου θα συμμετέχει στην Εκδήλωση με περίπτερο και θα ενημερώνει τους επισκέπτες για τις υπηρεσίες του Δικτύου. \nΑκολουθεί το Πρόγραμμα. \nΓια οποιαδήποτε περαιτέρω πληροφορία ή διευκρίνιση\, παρακαλώ μη διστάσετε να επικοινωνήσετε μαζί μας στα τηλέφωνα 22889749/52/69 ή μέσω email: eency@ccci.org.cy \n 
URL:https://eencyprus.org.cy/event/eortastiki-ekdilosi-gia-tin-imera-tis-evropis-symmetochi-tou-een-kyprou-me-periptero/
ATTACH;FMTTYPE=image/png:https://eencyprus.org.cy/wp-content/uploads/2024/05/een-Europe-day-2.png
END:VEVENT
BEGIN:VEVENT
DTSTART;TZID=Asia/Nicosia:20231010T090000
DTEND;TZID=Asia/Nicosia:20231010T160000
DTSTAMP:20260421T051034
CREATED:20230925T031134Z
LAST-MODIFIED:20240529T081920Z
UID:10536-1696928400-1696953600@eencyprus.org.cy
SUMMARY:Εορταστική Εκδήλωση για την 15η επέτειο του Δικτύου ΕΕΝ
DESCRIPTION:Γνωρίζετε τι είναι το Enterprise Europe Network (ΕΕΝ) και τι κάνει για να βοηθήσει τις Μικρομεσαίες Επιχειρήσεις να επιτύχουν; \nΕλάτε στην Εορταστική Εκδήλωση για την 15η επέτειο του Δικτύου ΕΕΝ για να μάθετε περισσότερα. \nΤρίτη\, 10 Οκτωβρίου 2023 στις 9πμ στο Royal Hall* \nΜε κύριο θέμα και σκοπό την ενδυνάμωση της ανθεκτικότητας των μικρομεσαίων επιχειρήσεων σε μελλοντικές προκλήσεις\, η εκδήλωση θα περιλαμβάνει σύντομες διαλέξεις στα πιο κάτω σημαντικά θέματα: \n\nΣυμμόρφωση των επιχειρήσεων με το κανονιστικό πλαίσιο (30 χρόνια Ενιαίας Αγοράς).\nΜηχανισμός ελέγχου και παρακολούθησης κόστους.\nΕπένδυση σε σύγχρονα τεχνολογικά συστήματα για προστασία και αξιοποίηση δεδομένων.\nΣτρατηγική Ανάπτυξη και Διαχείριση Καινοτομίας (Από τον Σχεδιασμό στην Ανάπτυξη νέωνπροϊόντων και υπηρεσιών).\nΧρηματοδότηση για πράσινη μετάβαση.\n\nΚρατήστε τη θέση σας σήμερα κάνοντας δωρεάν εγγραφή ΕΔΩ! \n*Ξάνθης Ξενιέρου 29\, Παλιά Λευκωσία\, 1015 Λευκωσία \nΔείτε αναλυτικά το πρόγραμμα ΕΔΩ!
URL:https://eencyprus.org.cy/event/eortastiki-ekdilosi-gia-tin-15i-epeteio-tou-diktyou-een/
ATTACH;FMTTYPE=image/png:https://eencyprus.org.cy/wp-content/uploads/2024/05/¨ΕΕΝp.png
END:VEVENT
END:VCALENDAR